BEGIN:VCALENDAR
VERSION:2.0
PRODID:-//Centre de Congrès Pierre Baudis - ECPv6.15.17//NONSGML v1.0//EN
CALSCALE:GREGORIAN
METHOD:PUBLISH
X-ORIGINAL-URL:https://centrepierrebaudis.toulousecongres.com
X-WR-CALDESC:Évènements pour Centre de Congrès Pierre Baudis
REFRESH-INTERVAL;VALUE=DURATION:PT1H
X-Robots-Tag:noindex
X-PUBLISHED-TTL:PT1H
BEGIN:VTIMEZONE
TZID:Europe/Paris
BEGIN:DAYLIGHT
TZOFFSETFROM:+0100
TZOFFSETTO:+0200
TZNAME:CEST
DTSTART:20240331T010000
END:DAYLIGHT
BEGIN:STANDARD
TZOFFSETFROM:+0200
TZOFFSETTO:+0100
TZNAME:CET
DTSTART:20241027T010000
END:STANDARD
BEGIN:DAYLIGHT
TZOFFSETFROM:+0100
TZOFFSETTO:+0200
TZNAME:CEST
DTSTART:20250330T010000
END:DAYLIGHT
BEGIN:STANDARD
TZOFFSETFROM:+0200
TZOFFSETTO:+0100
TZNAME:CET
DTSTART:20251026T010000
END:STANDARD
BEGIN:DAYLIGHT
TZOFFSETFROM:+0100
TZOFFSETTO:+0200
TZNAME:CEST
DTSTART:20260329T010000
END:DAYLIGHT
BEGIN:STANDARD
TZOFFSETFROM:+0200
TZOFFSETTO:+0100
TZNAME:CET
DTSTART:20261025T010000
END:STANDARD
END:VTIMEZONE
BEGIN:VEVENT
DTSTART;TZID=Europe/Paris:20251001T090000
DTEND;TZID=Europe/Paris:20251001T160000
DTSTAMP:20260421T205445
CREATED:20250526T093255Z
LAST-MODIFIED:20250526T093255Z
UID:1251-1759309200-1759334400@centrepierrebaudis.toulousecongres.com
SUMMARY:Roadshow ALLIANZ
DESCRIPTION:
URL:https://centrepierrebaudis.toulousecongres.com/evenement/roadshow-allianz/
LOCATION:Centre de Congrès Pierre Baudis\, 11 Esp. Compans Caffarelli\, TOULOUSE\, 31000\, France
CATEGORIES:Événement d'entreprise
END:VEVENT
BEGIN:VEVENT
DTSTART;TZID=Europe/Paris:20251003T080000
DTEND;TZID=Europe/Paris:20251004T170000
DTSTAMP:20260421T205445
CREATED:20250317T145416Z
LAST-MODIFIED:20250317T145416Z
UID:1206-1759478400-1759597200@centrepierrebaudis.toulousecongres.com
SUMMARY:Congrès National de la Fédération des SCOP BTP
DESCRIPTION:Cet événement offre l’opportunité de faire le point sur les progrès accomplis et de définir les objectifs à atteindre d’ici 2029. Cet événement national\, organisé tous les quatre ans\, représente un moment clé pour la Fédération SCOP BTP\, car il donne également lieu à l’élection d’un nouveau conseil d’administration chargé de porter ces ambitions.
URL:https://centrepierrebaudis.toulousecongres.com/evenement/congres-national-de-la-federation-des-scop-btp/
LOCATION:Centre de Congrès Pierre Baudis\, 11 Esp. Compans Caffarelli\, TOULOUSE\, 31000\, France
CATEGORIES:Congrès
END:VEVENT
BEGIN:VEVENT
DTSTART;TZID=Europe/Paris:20251008T080000
DTEND;TZID=Europe/Paris:20251010T170000
DTSTAMP:20260421T205445
CREATED:20250903T084600Z
LAST-MODIFIED:20250903T084600Z
UID:1356-1759910400-1760115600@centrepierrebaudis.toulousecongres.com
SUMMARY:9èmes Journées du LYSA Lymphoma Study Association
DESCRIPTION:Le LYSA\, The Lymphoma Study Association\, est un réseau indépendant de recherche clinique sur le lymphome menant des études cliniques de la première administration de nouveaux traitements à l’Homme jusqu’à l’établissement de stratégies thérapeutiques de référence. \nSite internet du LYSA : ici
URL:https://centrepierrebaudis.toulousecongres.com/evenement/9emes-journees-du-lysa-lymphoma-study-association/
LOCATION:Centre de Congrès Pierre Baudis\, 11 Esp. Compans Caffarelli\, TOULOUSE\, 31000\, France
CATEGORIES:Congrès
END:VEVENT
BEGIN:VEVENT
DTSTART;TZID=Europe/Paris:20251009T080000
DTEND;TZID=Europe/Paris:20251010T170000
DTSTAMP:20260421T205445
CREATED:20250903T085254Z
LAST-MODIFIED:20250903T085254Z
UID:1358-1759996800-1760115600@centrepierrebaudis.toulousecongres.com
SUMMARY:ONCO FOCUS 25
DESCRIPTION:FOCUS\, l’évènement de l’onco-urologie française et internationale\n\n\n\nFort de la réussite de ses précédentes éditions\, le congrès FOCUS est devenu un événement pérenne et incontournable du paysage de l’onco-urologie française et internationale.\nFOCUS se démarque en pariant sur l’innovation et l’optimisation thérapeutique\, avec un panel international d’experts renouvelé chaque année et des échanges facilités de haute valeur ajoutée avec ces leaders mondiaux en tumeurs uro-génitales.\nL’optimisation de nos stratégies en onco-urologie (radiothérapie\, oncologie\, médecine nucléaire\, urologie) est nécessaire en raison de la vitesse d’évolution des options thérapeutiques ces dernières années. Pour cela\, FOCUS invite chaque année des experts internationaux de renoms pour aborder de manière pluri-disciplinaire des sujets complexes de notre spécialité. \nPlus d’informations : ici
URL:https://centrepierrebaudis.toulousecongres.com/evenement/onco-focus-25/
LOCATION:Centre de Congrès Pierre Baudis\, 11 Esp. Compans Caffarelli\, TOULOUSE\, 31000\, France
CATEGORIES:Congrès
END:VEVENT
BEGIN:VEVENT
DTSTART;TZID=Europe/Paris:20251011T090000
DTEND;TZID=Europe/Paris:20251011T163000
DTSTAMP:20260421T205445
CREATED:20250526T093734Z
LAST-MODIFIED:20250903T075524Z
UID:1253-1760173200-1760200200@centrepierrebaudis.toulousecongres.com
SUMMARY:10es Rencontres Nationales ELLyE
DESCRIPTION:Plus d’informations ici.
URL:https://centrepierrebaudis.toulousecongres.com/evenement/les-journees-dellye/
LOCATION:Centre de Congrès Pierre Baudis\, 11 Esp. Compans Caffarelli\, TOULOUSE\, 31000\, France
CATEGORIES:Congrès
END:VEVENT
BEGIN:VEVENT
DTSTART;TZID=Europe/Paris:20251013T080000
DTEND;TZID=Europe/Paris:20251014T170000
DTSTAMP:20260421T205445
CREATED:20250526T094146Z
LAST-MODIFIED:20250526T094146Z
UID:1255-1760342400-1760461200@centrepierrebaudis.toulousecongres.com
SUMMARY:Assises Nationales des Risques Naturels 2025
DESCRIPTION:Les Assises nationales des risques naturels sont organisées par le ministère chargé de l’environnement et sont un lieu de rencontres et d’échanges entre les acteurs de la prévention des risques naturels. \nEn déclinaison du troisième plan d’adaptation au changement climatique\, cette édition 2025 sera l’occasion de renforcer la culture du risque et de préparer l’adaptation des territoires pour réduire leur vulnérabilité. \nPlus d’informations ici 
URL:https://centrepierrebaudis.toulousecongres.com/evenement/assises-nationales-des-risques-naturels-2025/
LOCATION:Centre de Congrès Pierre Baudis\, 11 Esp. Compans Caffarelli\, TOULOUSE\, 31000\, France
CATEGORIES:Congrès
END:VEVENT
BEGIN:VEVENT
DTSTART;VALUE=DATE:20251016
DTEND;VALUE=DATE:20251019
DTSTAMP:20260421T205445
CREATED:20240304T152428Z
LAST-MODIFIED:20241128T143306Z
UID:966-1760572800-1760831999@centrepierrebaudis.toulousecongres.com
SUMMARY:Congrès AFDN 2025
DESCRIPTION:Au programme : \n\nKeynote speakers\nConférences plénières\nSession cadre\nSession communications orales\nSession restauration collective\nWorkshop\nPosters\nPrix étudiant Anne-Marie Dartois\n\nPlus d’informations ici.
URL:https://centrepierrebaudis.toulousecongres.com/evenement/congres-afdn-2025/
LOCATION:Centre de Congrès Pierre Baudis\, 11 Esp. Compans Caffarelli\, TOULOUSE\, 31000\, France
CATEGORIES:Congrès
END:VEVENT
BEGIN:VEVENT
DTSTART;VALUE=DATE:20251128
DTEND;VALUE=DATE:20251129
DTSTAMP:20260421T205445
CREATED:20251104T153548Z
LAST-MODIFIED:20251104T153658Z
UID:1437-1764288000-1764374399@centrepierrebaudis.toulousecongres.com
SUMMARY:Séance Solennelle de l'Académie de l'Air et de l'Espace
DESCRIPTION:Plus d’informations ici 
URL:https://centrepierrebaudis.toulousecongres.com/evenement/seance-solennelle-de-lacademie-de-lair-et-de-lespace-2/
LOCATION:Centre de Congrès Pierre Baudis\, 11 Esp. Compans Caffarelli\, TOULOUSE\, 31000\, France
CATEGORIES:Événement d'entreprise
END:VEVENT
BEGIN:VEVENT
DTSTART;TZID=Europe/Paris:20251024T080000
DTEND;TZID=Europe/Paris:20251026T170000
DTSTAMP:20260421T205445
CREATED:20250825T150315Z
LAST-MODIFIED:20250825T150315Z
UID:1332-1761292800-1761498000@centrepierrebaudis.toulousecongres.com
SUMMARY:Marathon Tango - Dans Les Etoiles
DESCRIPTION:Tango dans les Étoiles revient à Toulouse pour un marathon international dédié à l’authenticité et à la passion du tango argentin. L’événement propose une expérience 100 % tango traditionnel\, dans une salle climatisée au cœur de la ville\, dotée d’un parquet bois idéal pour la danse. \nPensé pour les danseurs expérimentés\, le marathon met à l’honneur les codes traditionnels du tango avec invitation par mirada et cabeceo\, dans une atmosphère de respect et d’élégance. La parité est soigneusement respectée\, garantissant une harmonie dans la ronda et une fluidité dans les échanges. \nGrâce à une sonorisation et un éclairage de qualité\, chaque instant devient une immersion unique dans l’univers du tango\, favorisant la connexion\, le partage et l’émotion. \nPlus d’informations ici.
URL:https://centrepierrebaudis.toulousecongres.com/evenement/marathon-tango-dans-les-etoiles/
LOCATION:Centre de Congrès Pierre Baudis\, 11 Esp. Compans Caffarelli\, TOULOUSE\, 31000\, France
CATEGORIES:Spectacle - Festival
END:VEVENT
END:VCALENDAR