BEGIN:VCALENDAR
VERSION:2.0
PRODID:-//Centre de Congrès Pierre Baudis - ECPv6.15.17//NONSGML v1.0//EN
CALSCALE:GREGORIAN
METHOD:PUBLISH
X-ORIGINAL-URL:https://centrepierrebaudis.toulousecongres.com
X-WR-CALDESC:Évènements pour Centre de Congrès Pierre Baudis
REFRESH-INTERVAL;VALUE=DURATION:PT1H
X-Robots-Tag:noindex
X-PUBLISHED-TTL:PT1H
BEGIN:VTIMEZONE
TZID:Europe/Paris
BEGIN:DAYLIGHT
TZOFFSETFROM:+0100
TZOFFSETTO:+0200
TZNAME:CEST
DTSTART:20240331T010000
END:DAYLIGHT
BEGIN:STANDARD
TZOFFSETFROM:+0200
TZOFFSETTO:+0100
TZNAME:CET
DTSTART:20241027T010000
END:STANDARD
BEGIN:DAYLIGHT
TZOFFSETFROM:+0100
TZOFFSETTO:+0200
TZNAME:CEST
DTSTART:20250330T010000
END:DAYLIGHT
BEGIN:STANDARD
TZOFFSETFROM:+0200
TZOFFSETTO:+0100
TZNAME:CET
DTSTART:20251026T010000
END:STANDARD
BEGIN:DAYLIGHT
TZOFFSETFROM:+0100
TZOFFSETTO:+0200
TZNAME:CEST
DTSTART:20260329T010000
END:DAYLIGHT
BEGIN:STANDARD
TZOFFSETFROM:+0200
TZOFFSETTO:+0100
TZNAME:CET
DTSTART:20261025T010000
END:STANDARD
END:VTIMEZONE
BEGIN:VEVENT
DTSTART;TZID=Europe/Paris:20250701T080000
DTEND;TZID=Europe/Paris:20250903T170000
DTSTAMP:20260421T191104
CREATED:20250521T084236Z
LAST-MODIFIED:20250521T084236Z
UID:1234-1751356800-1756918800@centrepierrebaudis.toulousecongres.com
SUMMARY:Symposium de Génie Electrique SGE 2025
DESCRIPTION:Le 6ème Symposium de Génie Électrique (SGE 2025) se tiendra à Toulouse du 1er au 3 juillet 2025\, organisé par le Laboratoire d’Analyse et d’Architecture des Systèmes (LAAS) et le Laboratoire Plasma et Conversion d’Énergie (LAPLACE). Ce symposium réunira des spécialistes francophones\, universitaires et industriels du génie électrique pour présenter leurs dernières recherches et échanger sur les avancées récentes dans le domaine de la conversion et du traitement de l’énergie électrique\, des matériaux aux systèmes\, en passant par les composants. Comme lors des éditions précédentes\, cet événement sera une occasion privilégiée de discuter des enjeux actuels et futurs de la discipline. \nPlus d’infos ici : Symposium de Génie Électrique SGE 2025 – Sciencesconf.org
URL:https://centrepierrebaudis.toulousecongres.com/evenement/symposium-de-genie-electrique-sge-2025/
LOCATION:Centre de Congrès Pierre Baudis\, 11 Esp. Compans Caffarelli\, TOULOUSE\, 31000\, France
CATEGORIES:Congrès
END:VEVENT
BEGIN:VEVENT
DTSTART;VALUE=DATE:20250905
DTEND;VALUE=DATE:20250909
DTSTAMP:20260421T191104
CREATED:20241125T103059Z
LAST-MODIFIED:20241128T143150Z
UID:1112-1757030400-1757375999@centrepierrebaudis.toulousecongres.com
SUMMARY:Hydrocephalus Annual Meeting
DESCRIPTION:Hydrocéphalie 2025 s’agit de l’un des congrès les plus importants consacrés à l’hydrocéphalie et constitue une occasion vitale pour les cliniciens et les scientifiques de se tenir au courant des développements dans l’évaluation\, le diagnostic et le traitement de l’hydrocéphalie. \nLe congrès couvrira un spectre complet de troubles de l’hydrocéphalie et du LCR affectant les enfants et les adultes\, ils préparent un programme passionnant avec des sujets intéressants et controversés. \nPlus d’informations ici.
URL:https://centrepierrebaudis.toulousecongres.com/evenement/hydrocephalus-annual-meeting/
LOCATION:Centre de Congrès Pierre Baudis\, 11 Esp. Compans Caffarelli\, TOULOUSE\, 31000\, France
CATEGORIES:Congrès
END:VEVENT
BEGIN:VEVENT
DTSTART;TZID=Europe/Paris:20250910T080000
DTEND;TZID=Europe/Paris:20250912T170000
DTSTAMP:20260421T191104
CREATED:20250521T084710Z
LAST-MODIFIED:20250521T084721Z
UID:1237-1757491200-1757696400@centrepierrebaudis.toulousecongres.com
SUMMARY:Congrès CNGTC 2025 – Conseil National des Greffiers des Tribunaux de Commerce
DESCRIPTION:Voir le site du Conseil National des Greffiers des Tribunaux de Commerce : ici
URL:https://centrepierrebaudis.toulousecongres.com/evenement/congres-cngtc-2025-conseil-national-des-greffiers-des-tribunaux-de-commerce/
LOCATION:Centre de Congrès Pierre Baudis\, 11 Esp. Compans Caffarelli\, TOULOUSE\, 31000\, France
END:VEVENT
BEGIN:VEVENT
DTSTART;TZID=Europe/Paris:20250913T080000
DTEND;TZID=Europe/Paris:20250918T170000
DTSTAMP:20260421T191104
CREATED:20250317T142540Z
LAST-MODIFIED:20250317T142540Z
UID:1203-1757750400-1758214800@centrepierrebaudis.toulousecongres.com
SUMMARY:Forum Cartoon 2025
DESCRIPTION:Plus d’informations ici.
URL:https://centrepierrebaudis.toulousecongres.com/evenement/forum-cartoon-2025/
LOCATION:Centre de Congrès Pierre Baudis\, 11 Esp. Compans Caffarelli\, TOULOUSE\, 31000\, France
CATEGORIES:Congrès
END:VEVENT
BEGIN:VEVENT
DTSTART;TZID=Europe/Paris:20250920T193000
DTEND;TZID=Europe/Paris:20250920T203000
DTSTAMP:20260421T191104
CREATED:20250526T092052Z
LAST-MODIFIED:20250526T092052Z
UID:1242-1758396600-1758400200@centrepierrebaudis.toulousecongres.com
SUMMARY:We call it Flamenco
DESCRIPTION:We call it Flamenco\, c’est un spectacle magique qui te plonge dans la culture espagnole sans bouger de Toulouse. Découvre 6 des 50 styles de flamenco qui existent\, appelés “palos”\, interprétés par des artistes professionnel·les !  \nCe qui t’attend\n💃 Un spectacle de flamenco en 4 actes qui te plongera dans la culture espagnole\n🌹 Un décor sublime avec des fleurs\, des jeux de lumières et d’ombres\n🎭 Avec des artistes professionnel·les au talent exceptionnel\n🎵 Un spectacle créé\, dirigé et chorégraphié par María Farelo et Cristian Pérez de Luma Artistas S.L.\n🎁 Offre des souvenirs à quelqu’un de spécial ! Achète une carte-cadeau pour We call it Flamenco : un spectacle unique de danse espagnole \n⏳ Durée du spectacle : 60 minutes environ. Les portes ouvrent 30 minutes avant le début du concert. Les retards ne seront pas permis\n👤 Âge requis : 8 ans et plus. Les personnes de moins de 16 ans doivent être accompagnées par un adulte\n♿ Accessibilité : accès PMR disponible pour cet événement dans la limite des places disponibles\n❓ Consulte la FAQ de cet événement ici\n✨Si tu souhaites réserver un spectacle privé ou acheter des billets pour un grand groupe (plus de 30 personnes)\, clique ici\n🪑 Les places sont assignées par ordre d’arrivée\, selon la catégorie réservée \nBilletterie de l’évènement ici.
URL:https://centrepierrebaudis.toulousecongres.com/evenement/we-call-it-flamenco/
LOCATION:Centre de Congrès Pierre Baudis\, 11 Esp. Compans Caffarelli\, TOULOUSE\, 31000\, France
CATEGORIES:Spectacle - Festival
END:VEVENT
BEGIN:VEVENT
DTSTART;TZID=Europe/Paris:20250920T213000
DTEND;TZID=Europe/Paris:20250920T223000
DTSTAMP:20260421T191104
CREATED:20250526T092144Z
LAST-MODIFIED:20250526T092144Z
UID:1245-1758403800-1758407400@centrepierrebaudis.toulousecongres.com
SUMMARY:We call it Flamenco
DESCRIPTION:We call it Flamenco\, c’est un spectacle magique qui te plonge dans la culture espagnole sans bouger de Toulouse. Découvre 6 des 50 styles de flamenco qui existent\, appelés “palos”\, interprétés par des artistes professionnel·les !  \nCe qui t’attend\n💃 Un spectacle de flamenco en 4 actes qui te plongera dans la culture espagnole\n🌹 Un décor sublime avec des fleurs\, des jeux de lumières et d’ombres\n🎭 Avec des artistes professionnel·les au talent exceptionnel\n🎵 Un spectacle créé\, dirigé et chorégraphié par María Farelo et Cristian Pérez de Luma Artistas S.L.\n🎁 Offre des souvenirs à quelqu’un de spécial ! Achète une carte-cadeau pour We call it Flamenco : un spectacle unique de danse espagnole \n⏳ Durée du spectacle : 60 minutes environ. Les portes ouvrent 30 minutes avant le début du concert. Les retards ne seront pas permis\n👤 Âge requis : 8 ans et plus. Les personnes de moins de 16 ans doivent être accompagnées par un adulte\n♿ Accessibilité : accès PMR disponible pour cet événement dans la limite des places disponibles\n❓ Consulte la FAQ de cet événement ici\n✨Si tu souhaites réserver un spectacle privé ou acheter des billets pour un grand groupe (plus de 30 personnes)\, clique ici\n🪑 Les places sont assignées par ordre d’arrivée\, selon la catégorie réservée \nBilletterie de l’évènement ici.
URL:https://centrepierrebaudis.toulousecongres.com/evenement/we-call-it-flamenco-2/
LOCATION:Centre de Congrès Pierre Baudis\, 11 Esp. Compans Caffarelli\, TOULOUSE\, 31000\, France
CATEGORIES:Spectacle - Festival
END:VEVENT
BEGIN:VEVENT
DTSTART;TZID=Europe/Paris:20250927T080000
DTEND;TZID=Europe/Paris:20250928T170000
DTSTAMP:20260421T191104
CREATED:20250526T092842Z
LAST-MODIFIED:20250526T092842Z
UID:1248-1758960000-1759078800@centrepierrebaudis.toulousecongres.com
SUMMARY:Salon des Futurs Mariés 2025
DESCRIPTION:Le Salon des Futurs Mariés de Toulouse vous accueille pour rencontrer + de 90 exposants\, des professionnels du mariage sélectionnés les experts de la Maison du Mariage.\nPour faire le plein d’idées et de bonnes adresses dès la rentrée.\nPour découvrir en avant-première les tendances 2025.\nPour vous aider à préparer ce jour si important dans votre vie.\nPour profiter de conseils personnalisés et de bons plans exclusifs sur les robes\, alliances\, dragées\, vins et champagnes… et bien + encore.\n\n DÉFILES – Vivez de véritables moments « Mode » lors des défilés des nouvelles collections de robes de créateurs et de fabricants. 3 défilés par jour\, à 11h00\, 15h00 et 17h30.\n GUIDES & MAGAZINES – Bénéficiez des + de la Maison du Mariage : « Le Guide des Salles & de la Réception » et le « Magazine Mariage Occitanie éd. 2025 » vous seront offerts à l’entrée du salon !\n ESPACES GRATUITS – Participez à des animations en tout genre : show culinaires\, ateliers beauté\, conférences…\n\nPlus d’informations ici 
URL:https://centrepierrebaudis.toulousecongres.com/evenement/salon-des-futurs-maries-2025/
LOCATION:Centre de Congrès Pierre Baudis\, 11 Esp. Compans Caffarelli\, TOULOUSE\, 31000\, France
CATEGORIES:Salon - Exposition
END:VEVENT
END:VCALENDAR