BEGIN:VCALENDAR
VERSION:2.0
PRODID:-//Centre de Congrès Pierre Baudis - ECPv6.15.17//NONSGML v1.0//EN
CALSCALE:GREGORIAN
METHOD:PUBLISH
X-ORIGINAL-URL:https://centrepierrebaudis.toulousecongres.com
X-WR-CALDESC:Évènements pour Centre de Congrès Pierre Baudis
REFRESH-INTERVAL;VALUE=DURATION:PT1H
X-Robots-Tag:noindex
X-PUBLISHED-TTL:PT1H
BEGIN:VTIMEZONE
TZID:Europe/Paris
BEGIN:DAYLIGHT
TZOFFSETFROM:+0100
TZOFFSETTO:+0200
TZNAME:CEST
DTSTART:20240331T010000
END:DAYLIGHT
BEGIN:STANDARD
TZOFFSETFROM:+0200
TZOFFSETTO:+0100
TZNAME:CET
DTSTART:20241027T010000
END:STANDARD
BEGIN:DAYLIGHT
TZOFFSETFROM:+0100
TZOFFSETTO:+0200
TZNAME:CEST
DTSTART:20250330T010000
END:DAYLIGHT
BEGIN:STANDARD
TZOFFSETFROM:+0200
TZOFFSETTO:+0100
TZNAME:CET
DTSTART:20251026T010000
END:STANDARD
BEGIN:DAYLIGHT
TZOFFSETFROM:+0100
TZOFFSETTO:+0200
TZNAME:CEST
DTSTART:20260329T010000
END:DAYLIGHT
BEGIN:STANDARD
TZOFFSETFROM:+0200
TZOFFSETTO:+0100
TZNAME:CET
DTSTART:20261025T010000
END:STANDARD
END:VTIMEZONE
BEGIN:VEVENT
DTSTART;VALUE=DATE:20250204
DTEND;VALUE=DATE:20250205
DTSTAMP:20260419T202846
CREATED:20241209T112604Z
LAST-MODIFIED:20250123T082619Z
UID:1138-1738627200-1738713599@centrepierrebaudis.toulousecongres.com
SUMMARY:Journée de l'innovation CNES
DESCRIPTION:Cette journée s’inscrit une fois encore dans la tradition des précédentes Journées de l’Innovation. Elle permettra notamment de revenir sur les activités de recherche et technologie. Cette année\, il a été retenu comme fil rouge « Espace\, innovation\, coopération ».\nTout au long de l‘événement\, les présentations permettront d’aborder différentes facettes de la coopération dans le secteur spatial avec une table ronde en clôture de journée impliquant représentants institutionnels\, industriels et sociétaux. \nLa coopération est une caractéristique bien connue des programmes de recherche spatiale. Depuis le tournant des années 2000\, d’autres champs de coopération se font jour : entre objets en orbite\, entre robots et humains pour des activités augmentées\, entre générations pour relever les défis sociétaux par-delà les frontières géographiques. \nUn emplacement spécifique a été prévu pour valoriser les activités des start-up et favoriser les contacts durant la journée. \nPlus d’infos ici : Journée de l’innovation CNES | 2024 – Journée de l’innovation CNES (cnes-innovation.fr)
URL:https://centrepierrebaudis.toulousecongres.com/evenement/journee-de-linnovation-cnes/
LOCATION:Centre de Congrès Pierre Baudis\, 11 Esp. Compans Caffarelli\, TOULOUSE\, 31000\, France
CATEGORIES:Congrès
END:VEVENT
BEGIN:VEVENT
DTSTART;VALUE=DATE:20250208
DTEND;VALUE=DATE:20250209
DTSTAMP:20260419T202846
CREATED:20230629T160139Z
LAST-MODIFIED:20250127T133927Z
UID:524-1738972800-1739059199@centrepierrebaudis.toulousecongres.com
SUMMARY:STUDYRAMA PE / ES / Numérique / Sup'alternance 2025
DESCRIPTION:Studyrama organise sa 9e édition du salon de la poursuite d’études et Masters ainsi que sa 23e édition du salon des études supérieurs et de l’alternance au centre des congrès Pierre Baudis – Salle Concorde le 8 février de 10h à 17h. \nPour ce salon\, vous pourrez échanger avec des spécialistes des études supérieures\, des professeurs et des étudiants\, et ainsi affiner votre projet d’orientation. C’est plus de 500 formations de Bac à Bac+5 dans tous types d’établissements : Prépas\, Facultés\, Grandes Écoles\, Écoles Spécialisées\, Lycées.
URL:https://centrepierrebaudis.toulousecongres.com/evenement/studyrama-pe-es-numerique-supalternance-2025/
LOCATION:Centre de Congrès Pierre Baudis\, 11 Esp. Compans Caffarelli\, TOULOUSE\, 31000\, France
CATEGORIES:Salon - Exposition
END:VEVENT
BEGIN:VEVENT
DTSTART;VALUE=DATE:20250214
DTEND;VALUE=DATE:20250215
DTSTAMP:20260419T202846
CREATED:20250106T104054Z
LAST-MODIFIED:20250106T104956Z
UID:1146-1739491200-1739577599@centrepierrebaudis.toulousecongres.com
SUMMARY:We call it Flamenco: un spectacle unique de danse Espagnole
DESCRIPTION:We call it Flamenco\, c’est un spectacle magique qui vous plonge dans la culture espagnole sans bouger de Toulouse. Découvrez 6 des 50 styles de flamenco qui existent\, appelés “palos”\, interprétés par des artistes professionnel·les ! \nCe qui vous attend :\n– Un spectacle de flamenco en 4 actes qui te plongera dans la culture espagnole\n– Un décor sublime avec des fleurs\, des jeux de lumières et d’ombres\n– Avec des artistes professionnel·les au talent exceptionnel\n– Un spectacle créé\, dirigé et chorégraphié par María Farelo et Cristian Pérez de Luma Artistas S.L. \nPlus d’informations ici.
URL:https://centrepierrebaudis.toulousecongres.com/evenement/we-call-it-flamenco-a-unique-spanish-dance-show/
LOCATION:Centre de Congrès Pierre Baudis\, 11 Esp. Compans Caffarelli\, TOULOUSE\, 31000\, France
CATEGORIES:Spectacle - Festival
END:VEVENT
BEGIN:VEVENT
DTSTART;VALUE=DATE:20250221
DTEND;VALUE=DATE:20250222
DTSTAMP:20260419T202846
CREATED:20250106T104433Z
LAST-MODIFIED:20250106T104623Z
UID:1148-1740096000-1740182399@centrepierrebaudis.toulousecongres.com
SUMMARY:We call it Tango : un spectacle unique de danse argentine
DESCRIPTION:We call it Tango\, c’est une expérience magique qui t’emporte dans la passion et le rythme de la culture argentine\, en plein cœur de Toulouse. Explore les différents styles de tango interprétés par des artistes professionnels au Centre des Congrès Pierre Baudis ! \nCe qui vous attend :\n– Un décor sublimé par des guirlandes multicolores\n– Viens vivre une histoire d’amour qui transpire toute la passion du tango\n– Des danseurs de tango professionnels seront accompagnés par un duo piano-bandonéon\n– Un spectacle créé\, dirigé et chorégraphié par Agustina Videla et Pablo Destito\, tout droit venus de Buenos Aires \nPlus d’informations ici.
URL:https://centrepierrebaudis.toulousecongres.com/evenement/we-call-it-tango-un-spectacle-unique-de-danse-argentine/
LOCATION:Centre de Congrès Pierre Baudis\, 11 Esp. Compans Caffarelli\, TOULOUSE\, 31000\, France
CATEGORIES:Spectacle - Festival
END:VEVENT
END:VCALENDAR