BEGIN:VCALENDAR
VERSION:2.0
PRODID:-//Centre de Congrès Pierre Baudis - ECPv6.15.17//NONSGML v1.0//EN
CALSCALE:GREGORIAN
METHOD:PUBLISH
X-ORIGINAL-URL:https://centrepierrebaudis.toulousecongres.com
X-WR-CALDESC:Évènements pour Centre de Congrès Pierre Baudis
REFRESH-INTERVAL;VALUE=DURATION:PT1H
X-Robots-Tag:noindex
X-PUBLISHED-TTL:PT1H
BEGIN:VTIMEZONE
TZID:Europe/Paris
BEGIN:DAYLIGHT
TZOFFSETFROM:+0100
TZOFFSETTO:+0200
TZNAME:CEST
DTSTART:20220327T010000
END:DAYLIGHT
BEGIN:STANDARD
TZOFFSETFROM:+0200
TZOFFSETTO:+0100
TZNAME:CET
DTSTART:20221030T010000
END:STANDARD
BEGIN:DAYLIGHT
TZOFFSETFROM:+0100
TZOFFSETTO:+0200
TZNAME:CEST
DTSTART:20230326T010000
END:DAYLIGHT
BEGIN:STANDARD
TZOFFSETFROM:+0200
TZOFFSETTO:+0100
TZNAME:CET
DTSTART:20231029T010000
END:STANDARD
BEGIN:DAYLIGHT
TZOFFSETFROM:+0100
TZOFFSETTO:+0200
TZNAME:CEST
DTSTART:20240331T010000
END:DAYLIGHT
BEGIN:STANDARD
TZOFFSETFROM:+0200
TZOFFSETTO:+0100
TZNAME:CET
DTSTART:20241027T010000
END:STANDARD
END:VTIMEZONE
BEGIN:VEVENT
DTSTART;TZID=Europe/Paris:20231108T080000
DTEND;TZID=Europe/Paris:20231110T170000
DTSTAMP:20260419T184156
CREATED:20230629T154515Z
LAST-MODIFIED:20231106T110412Z
UID:472-1699430400-1699635600@centrepierrebaudis.toulousecongres.com
SUMMARY:Journées Annuelles AVEF Association Vétérinaire Équine Française
DESCRIPTION:Les 51e Journées annuelles de l’Avef – Association Vétérinaire Équine Française se tiendront à Toulouse\, du 8 au 10 novembre. \nDifférents ateliers seront proposés le 8 novembre en amont du congrès : \n\n\n\n\nL’examen ophtalmologique du cheval – atelier 1⁄2 journée matin à l’ENVT\n\n\n\n\nAnesthésies locorégionales (tête / queue) – atelier 1⁄2 journée après-midi à l’ENVT\n\n\n\n\n\n\n\n\nDiagnostic des affections neurologiques du cheval – journée – Clinique du cheval à Grenade\n\n\n\n\n\nExamen échographique du boulet et de la gaine digitale – atelier 1⁄2 journée après-midi – Clinique du cheval à Grenade\n\n\n\n\n\n\n\nCette journée sera clôturée par la 2ᵉ édition du job dating\, suite au succès de l’essai de ce concept à Reims. La commission management est déjà à pied d’œuvre pour préparer ce rendez-vous\, qui a pour objectif de mettre en relation l’offre et la demande en termes de postes en équine\, et de favoriser les prises de contact dans un contexte convivial ! \nPlus d’infos ici : https://avef.fr/formations/toulouse-du-8-au-10-nov-2023-journees-annuelles/
URL:https://centrepierrebaudis.toulousecongres.com/evenement/journees-annuelles-avef-association-veterinaire-equine-francaise/
LOCATION:Centre de Congrès Pierre Baudis\, 11 Esp. Compans Caffarelli\, TOULOUSE\, 31000\, France
CATEGORIES:Congrès
END:VEVENT
BEGIN:VEVENT
DTSTART;TZID=Europe/Paris:20231115T080000
DTEND;TZID=Europe/Paris:20231117T170000
DTSTAMP:20260419T184156
CREATED:20230629T154551Z
LAST-MODIFIED:20231113T103007Z
UID:474-1700035200-1700240400@centrepierrebaudis.toulousecongres.com
SUMMARY:26e Congrès annuel de l'Association Française de Cytométrie - Cytométrie 2023
DESCRIPTION:Le 26ème congrès de l’Association Française de Cytométrie (AFC) qui se déroulera les 15\, 16 et 17 novembre 2023.\nLe programme offrira un large éventail de conférences et la possibilité d’échanger aussi bien d’un point de vue scientifique que technique autour de différentes thématiques fondamentales et cliniques. L’état de l’art en cytométrie sera mis en avant\, couvrant les champs de la cytométrie qu’elle soit conventionnelle\, de masse ou spectrale. Les approches en imagerie et imagerie en flux seront également abordées. Une attention particulière sera portée cette année sur les questions de biosécurité et de démarche environnementale. Cette manifestation mettra en lumière la recherche scientifique locale et régionale dans les domaines de la cancérologie\, l’infectiologie\, l’inflammation et le métabolisme. Un accent sera mis sur des thématiques spécifiques telles que l’étude du vieillissement et les pathologies liées au sexe. \nPlus d’infos ici : https://www.alphavisa.com/afc/2023/index.php
URL:https://centrepierrebaudis.toulousecongres.com/evenement/26e-congres-annuel-de-lassociation-francaise-de-cytometrie-cytometrie-2023/
LOCATION:Centre de Congrès Pierre Baudis\, 11 Esp. Compans Caffarelli\, TOULOUSE\, 31000\, France
CATEGORIES:Congrès
END:VEVENT
BEGIN:VEVENT
DTSTART;TZID=Europe/Paris:20231116T080000
DTEND;TZID=Europe/Paris:20231118T170000
DTSTAMP:20260419T184156
CREATED:20230629T154625Z
LAST-MODIFIED:20231113T104020Z
UID:477-1700121600-1700326800@centrepierrebaudis.toulousecongres.com
SUMMARY:Journées d'Etudes de la FDCMPP - Centre Médico Psycho Pédagogique
DESCRIPTION:Les CMPP sont\, depuis leur création\, des lieux d’accueil et de soin\, des lieux d’écoute et d’accompagnement\, dans une rencontre singulière\, des difficultés des enfants et de leurs familles. Un travail de lien y est privilégié\, travail qui s’appuie sur la richesse de la pluridisciplinarité. Les outils et les références théoriques croisés viennent faire support de pensée et soutiennent l’orientation de ces collectifs soignants. Les réalités contextuelles récentes\, telle que la pandémie de Covid 19\, mais aussi sociétales et politiques contemporaines\, entraînent une évolution de la clinique et de l’offre de soins\, qui invite à des adaptations dans nos pratiques. Les évaluations diagnostiques et fonctionnelles\, adossées à la prévention et au dépistage précoce\, sont l’objet d’enjeux majeurs pour les CMPP qui sont au cœur de ces changements. Comment prenons-nous en compte\, dans ce contexte\, les difficultés psychiques\, développementales et instrumentales de l’enfant et de l’adolescent ? Quel espace ouvrons-nous pour les accueillir avec leur famille ? Quelle place occupons-nous pour favoriser l’inclusion sociale et scolaire de nos patients ? Quel souffle de créativité et d’inventivité trouvons-nous dans ce qui anime notre travail\, dans ce contexte de questionnement de nos pratiques\, parfois éprouvant pour les équipes ? Quels nouveaux projets tissés sur mesure pouvons-nous construire\, que ce soit en termes de parcours de soins ou de partenariats ? Comment continuer à s’adapter\, à réinventer\, tout en préservant une éthique clinique responsable et engagée ? Que ces journées nationales\, les premières depuis trois ans\, soient l’occasion de partager nos expériences et de prendre le temps\, ensemble\, de penser le soin ! \nPlus d’infos : https://www.fdcmpp.fr/journees-nationales-de-toulouse-2023.html
URL:https://centrepierrebaudis.toulousecongres.com/evenement/journees-detudes-de-la-fdcmpp-centre-medico-psycho-pedagogique/
LOCATION:Centre de Congrès Pierre Baudis\, 11 Esp. Compans Caffarelli\, TOULOUSE\, 31000\, France
CATEGORIES:Congrès
END:VEVENT
BEGIN:VEVENT
DTSTART;TZID=Europe/Paris:20231120T080000
DTEND;TZID=Europe/Paris:20231124T170000
DTSTAMP:20260419T184156
CREATED:20230629T154653Z
LAST-MODIFIED:20231120T095227Z
UID:480-1700467200-1700845200@centrepierrebaudis.toulousecongres.com
SUMMARY:European Space Weather Week 2023
DESCRIPTION:L’ESWW est le principal événement annuel du calendrier européen de météorologie spatiale. Il s’agit d’une réunion internationale organisée chaque année au sein de la Région européenne en collaboration avec des membres éminents de la communauté européenne de météorologie spatiale. Il s’agissait à l’origine d’un forum pour la communauté européenne de météorologie spatiale et s’est depuis transformé en un événement international avec une participation mondiale. \nPlus d’infos ici : https://esww2023.org/
URL:https://centrepierrebaudis.toulousecongres.com/evenement/european-space-weather-week-2023-irap/
LOCATION:Centre de Congrès Pierre Baudis\, 11 Esp. Compans Caffarelli\, TOULOUSE\, 31000\, France
CATEGORIES:Congrès
END:VEVENT
BEGIN:VEVENT
DTSTART;TZID=Europe/Paris:20231125T080000
DTEND;TZID=Europe/Paris:20231125T170000
DTSTAMP:20260419T184156
CREATED:20230629T154723Z
LAST-MODIFIED:20231113T112800Z
UID:482-1700899200-1700931600@centrepierrebaudis.toulousecongres.com
SUMMARY:20e Edition du Congrès Preuves & Pratiques
DESCRIPTION:Congrès dédié aux MG et IMG. \nPlus d’infos ici : https://www.preuvesetpratiques.com/nos-congres/congres/266-toulouse-25-novembre-2023.html
URL:https://centrepierrebaudis.toulousecongres.com/evenement/preuves-pratiques-2023/
LOCATION:Centre de Congrès Pierre Baudis\, 11 Esp. Compans Caffarelli\, TOULOUSE\, 31000\, France
CATEGORIES:Congrès
END:VEVENT
BEGIN:VEVENT
DTSTART;TZID=Europe/Paris:20231129T080000
DTEND;TZID=Europe/Paris:20231201T170000
DTSTAMP:20260419T184156
CREATED:20230629T154809Z
LAST-MODIFIED:20231113T110506Z
UID:484-1701244800-1701450000@centrepierrebaudis.toulousecongres.com
SUMMARY:31e Congrès de la Société Française de Transfusion Sanguine
DESCRIPTION:Ce congrès ouvre cette année ses frontières en accueillant au sein de son comité scientifique des experts de la francophonie. L’objectif est le partage des connaissances\, des bonnes pratiques et des expériences. Le programme sera\, une nouvelle fois\, dense\, riche d’enseignement\, d’information et d’échange. \nPlus d’infos ici : https://www.sfts.asso.fr/congres/bienvenue
URL:https://centrepierrebaudis.toulousecongres.com/evenement/31e-congres-de-la-societe-francaise-de-transfusion-sanguine/
LOCATION:Centre de Congrès Pierre Baudis\, 11 Esp. Compans Caffarelli\, TOULOUSE\, 31000\, France
CATEGORIES:Congrès
END:VEVENT
END:VCALENDAR