BEGIN:VCALENDAR
VERSION:2.0
PRODID:-//Centre de Congrès Pierre Baudis - ECPv6.15.17//NONSGML v1.0//EN
CALSCALE:GREGORIAN
METHOD:PUBLISH
X-WR-CALNAME:Centre de Congrès Pierre Baudis
X-ORIGINAL-URL:https://centrepierrebaudis.toulousecongres.com
X-WR-CALDESC:Évènements pour Centre de Congrès Pierre Baudis
REFRESH-INTERVAL;VALUE=DURATION:PT1H
X-Robots-Tag:noindex
X-PUBLISHED-TTL:PT1H
BEGIN:VTIMEZONE
TZID:Europe/Paris
BEGIN:DAYLIGHT
TZOFFSETFROM:+0100
TZOFFSETTO:+0200
TZNAME:CEST
DTSTART:20220327T010000
END:DAYLIGHT
BEGIN:STANDARD
TZOFFSETFROM:+0200
TZOFFSETTO:+0100
TZNAME:CET
DTSTART:20221030T010000
END:STANDARD
BEGIN:DAYLIGHT
TZOFFSETFROM:+0100
TZOFFSETTO:+0200
TZNAME:CEST
DTSTART:20230326T010000
END:DAYLIGHT
BEGIN:STANDARD
TZOFFSETFROM:+0200
TZOFFSETTO:+0100
TZNAME:CET
DTSTART:20231029T010000
END:STANDARD
BEGIN:DAYLIGHT
TZOFFSETFROM:+0100
TZOFFSETTO:+0200
TZNAME:CEST
DTSTART:20240331T010000
END:DAYLIGHT
BEGIN:STANDARD
TZOFFSETFROM:+0200
TZOFFSETTO:+0100
TZNAME:CET
DTSTART:20241027T010000
END:STANDARD
END:VTIMEZONE
BEGIN:VEVENT
DTSTART;TZID=Europe/Paris:20231003T080000
DTEND;TZID=Europe/Paris:20231003T170000
DTSTAMP:20260419T202737
CREATED:20230629T153709Z
LAST-MODIFIED:20230630T075146Z
UID:447-1696320000-1696352400@centrepierrebaudis.toulousecongres.com
SUMMARY:CONCOURS DRFIP
DESCRIPTION:
URL:https://centrepierrebaudis.toulousecongres.com/evenement/concours-drfip/
LOCATION:Centre de Congrès Pierre Baudis\, 11 Esp. Compans Caffarelli\, TOULOUSE\, 31000\, France
CATEGORIES:Concours - Remise de diplômes
END:VEVENT
BEGIN:VEVENT
DTSTART;TZID=Europe/Paris:20231004T080000
DTEND;TZID=Europe/Paris:20231007T170000
DTSTAMP:20260419T202737
CREATED:20230629T153755Z
LAST-MODIFIED:20230630T074501Z
UID:449-1696406400-1696698000@centrepierrebaudis.toulousecongres.com
SUMMARY:Congrès CMF Société Française de Stomatologie Chirurgie Maxillo Faciale & Chirurgie Orale
DESCRIPTION:
URL:https://centrepierrebaudis.toulousecongres.com/evenement/congres-cmf-societe-francaise-de-stomatologie-chirurgie-maxillo-faciale-chirurgie-orale/
LOCATION:Centre de Congrès Pierre Baudis\, 11 Esp. Compans Caffarelli\, TOULOUSE\, 31000\, France
CATEGORIES:Congrès
END:VEVENT
BEGIN:VEVENT
DTSTART;TZID=Europe/Paris:20231012T080000
DTEND;TZID=Europe/Paris:20231014T170000
DTSTAMP:20260419T202737
CREATED:20230629T154027Z
LAST-MODIFIED:20231009T085549Z
UID:456-1697097600-1697302800@centrepierrebaudis.toulousecongres.com
SUMMARY:JPRS 2023 - Journées Pratiques Respiration Sommeil
DESCRIPTION:Le congrès des Journées Pratiques Respiration et Sommeil est un congrès médical annuel pluridisciplinaire qui a pour objectif l’actualisation des connaissances à partir d’ateliers pratiques tournés vers l’exercice du médecin dans le domaine des apnées du sommeil. \nPlus d’infos ici : https://jprs.fr/le-congres/#bienvenue
URL:https://centrepierrebaudis.toulousecongres.com/evenement/journees-pratiques-respiration-sommeil-jprs-2023/
LOCATION:Centre de Congrès Pierre Baudis\, 11 Esp. Compans Caffarelli\, TOULOUSE\, 31000\, France
CATEGORIES:Congrès
END:VEVENT
BEGIN:VEVENT
DTSTART;TZID=Europe/Paris:20231016T080000
DTEND;TZID=Europe/Paris:20231017T170000
DTSTAMP:20260419T202737
CREATED:20230629T154141Z
LAST-MODIFIED:20231016T090317Z
UID:462-1697443200-1697562000@centrepierrebaudis.toulousecongres.com
SUMMARY:RENCONTRES NATIONALES DES GESTIONNAIRES DES ROUTES
DESCRIPTION:La route\, véritable pierre angulaire de nos modes de transports (plus de 80 % de nos déplacements) est appelée à se transformer\, en même temps que les véhicules qui l’empruntent\, pour satisfaire aux nouvelles exigences d’un monde confronté aux défis du changement climatique et des nouvelles mobilités.\nAujourd’hui\, les enjeux environnementaux ne se réduisent pas au seul changement climatique… Il convient également de mieux prendre en compte la protection de la biodiversité\, la lutte contre le bruit\, la réduction des polluants de la route qui sont nocifs pour la santé\, la nécessaire économies des ressources naturelles ainsi que la préservation des ressources en eau….\nSi ces enjeux sont de mieux en mieux pris en compte dans les projets d’infrastructures neuves\, il y a encore beaucoup à faire pour mettre à niveau les infrastructures existantes\, notamment dans les différentes opérations d’entretien ou de maintenance de ces infrastructures.\nC’est pourquoi\, pour cette 4ème édition des Rencontres Nationales des Gestionnaires des Routes\, idealCO et le comité de pilotage de l’événement ont décidé de revenir sur la décarbonation des infrastructures pour aller vers une route plus responsable. \nPlus d’informations ici : https://www.idealco.fr/evenements/rencontres-nationales-des-gestionnaires-des-routes-619#concept
URL:https://centrepierrebaudis.toulousecongres.com/evenement/rencontres-nationales-des-gestionnaires-des-routes/
LOCATION:Centre de Congrès Pierre Baudis\, 11 Esp. Compans Caffarelli\, TOULOUSE\, 31000\, France
CATEGORIES:Congrès
END:VEVENT
BEGIN:VEVENT
DTSTART;TZID=Europe/Paris:20231016T080000
DTEND;TZID=Europe/Paris:20231017T180000
DTSTAMP:20260419T202737
CREATED:20231009T102655Z
LAST-MODIFIED:20231009T102947Z
UID:837-1697443200-1697565600@centrepierrebaudis.toulousecongres.com
SUMMARY:Vinomed
DESCRIPTION:La troisième édition du salon des vins et de l’œnotourisme en méditerranée Vinomed se déroulera les 16 & 17 octobre 2023.\nProducteurs de vin du bassin méditerranéen\, cavistes\, CHR\, grande distribution\, importateurs européens\, asiatiques\, tour-opérateurs\, agences de voyages… le salon permettra à tous les acteurs du secteur œnotourisme de se rencontrer. \nPlus d’informations : https://salon-vinomed.com/
URL:https://centrepierrebaudis.toulousecongres.com/evenement/vinomed/
LOCATION:Centre de Congrès Pierre Baudis\, 11 Esp. Compans Caffarelli\, TOULOUSE\, 31000\, France
END:VEVENT
BEGIN:VEVENT
DTSTART;TZID=Europe/Paris:20231019T080000
DTEND;TZID=Europe/Paris:20231019T170000
DTSTAMP:20260419T202737
CREATED:20230629T154411Z
LAST-MODIFIED:20231016T091043Z
UID:470-1697702400-1697734800@centrepierrebaudis.toulousecongres.com
SUMMARY:FORUM TOULOUSE TECHNOLOGIES
DESCRIPTION:Depuis 1991\, le Forum Toulouse Technologies accompagne les jeunes diplômés\, étudiants et professionnels en recherche des offres d’emploi ou d’alternance en organisant des événements (y compris des conférences) pour faciliter leur accès au marché de l’emploi. Les stands de rencontres étudiants-entreprises permettent aux nombreux participants de bénéficier de simulations d’entretiens d’embauche\, de conseils sur la correction de CV\, ainsi que de réponses à toutes leurs interrogations sur la formation\, le salaire\, les activités et les opportunités de carrière. \nPlus d’informations : https://ftt2023.forum-toulouse.fr/forum-19-octobre-2023/
URL:https://centrepierrebaudis.toulousecongres.com/evenement/forum-toulouse-technologies/
LOCATION:Centre de Congrès Pierre Baudis\, 11 Esp. Compans Caffarelli\, TOULOUSE\, 31000\, France
CATEGORIES:Salon - Exposition
END:VEVENT
BEGIN:VEVENT
DTSTART;TZID=Europe/Paris:20231019T080000
DTEND;TZID=Europe/Paris:20231020T170000
DTSTAMP:20260419T202737
CREATED:20231016T084002Z
LAST-MODIFIED:20231016T084002Z
UID:840-1697702400-1697821200@centrepierrebaudis.toulousecongres.com
SUMMARY:31ème Congrès des Avocats Conseils d'Entreprises ACE
DESCRIPTION:Chaque année\, l’ACE organise un Congrès National. Lieu de formation\, d’échange entre confrères et partenaires. Mais avant tout un week-end pour imaginer ensemble le futur de la profession. \nPlus d’informations : https://avocats-ace.fr/congres/
URL:https://centrepierrebaudis.toulousecongres.com/evenement/31eme-congres-des-avocats-conseils-dentreprises-ace-2/
END:VEVENT
END:VCALENDAR