BEGIN:VCALENDAR
VERSION:2.0
PRODID:-//Centre de Congrès Pierre Baudis - ECPv6.15.17//NONSGML v1.0//EN
CALSCALE:GREGORIAN
METHOD:PUBLISH
X-ORIGINAL-URL:https://centrepierrebaudis.toulousecongres.com
X-WR-CALDESC:Évènements pour Centre de Congrès Pierre Baudis
REFRESH-INTERVAL;VALUE=DURATION:PT1H
X-Robots-Tag:noindex
X-PUBLISHED-TTL:PT1H
BEGIN:VTIMEZONE
TZID:Europe/Paris
BEGIN:DAYLIGHT
TZOFFSETFROM:+0100
TZOFFSETTO:+0200
TZNAME:CEST
DTSTART:20220327T010000
END:DAYLIGHT
BEGIN:STANDARD
TZOFFSETFROM:+0200
TZOFFSETTO:+0100
TZNAME:CET
DTSTART:20221030T010000
END:STANDARD
BEGIN:DAYLIGHT
TZOFFSETFROM:+0100
TZOFFSETTO:+0200
TZNAME:CEST
DTSTART:20230326T010000
END:DAYLIGHT
BEGIN:STANDARD
TZOFFSETFROM:+0200
TZOFFSETTO:+0100
TZNAME:CET
DTSTART:20231029T010000
END:STANDARD
BEGIN:DAYLIGHT
TZOFFSETFROM:+0100
TZOFFSETTO:+0200
TZNAME:CEST
DTSTART:20240331T010000
END:DAYLIGHT
BEGIN:STANDARD
TZOFFSETFROM:+0200
TZOFFSETTO:+0100
TZNAME:CET
DTSTART:20241027T010000
END:STANDARD
END:VTIMEZONE
BEGIN:VEVENT
DTSTART;TZID=Europe/Paris:20230908T080000
DTEND;TZID=Europe/Paris:20230908T170000
DTSTAMP:20260419T221253
CREATED:20230622T100432Z
LAST-MODIFIED:20230630T075249Z
UID:241-1694160000-1694192400@centrepierrebaudis.toulousecongres.com
SUMMARY:13ème Colloque de l'AFREPA Association Francophone des Équipes Pluridisciplinaires en Acouphénologie
DESCRIPTION:
URL:https://centrepierrebaudis.toulousecongres.com/evenement/13eme-colloque-de-lafrepa-association-francophone-des-equipes-pluridisciplinaires-en-acouphenologie/
LOCATION:Centre de Congrès Pierre Baudis\, 11 Esp. Compans Caffarelli\, TOULOUSE\, 31000\, France
CATEGORIES:Congrès
END:VEVENT
BEGIN:VEVENT
DTSTART;TZID=Europe/Paris:20230914T080000
DTEND;TZID=Europe/Paris:20230914T170000
DTSTAMP:20260419T221253
CREATED:20230622T100540Z
LAST-MODIFIED:20230911T213556Z
UID:243-1694678400-1694710800@centrepierrebaudis.toulousecongres.com
SUMMARY:Journée nationale des collectivités - ADEME
DESCRIPTION:
URL:https://centrepierrebaudis.toulousecongres.com/evenement/journee-nationale-des-collectivites-23-ademe-eko/
LOCATION:Centre de Congrès Pierre Baudis\, 11 Esp. Compans Caffarelli\, TOULOUSE\, 31000\, France
END:VEVENT
BEGIN:VEVENT
DTSTART;TZID=Europe/Paris:20230920T080000
DTEND;TZID=Europe/Paris:20230921T170000
DTSTAMP:20260419T221253
CREATED:20230629T153302Z
LAST-MODIFIED:20230630T075230Z
UID:440-1695196800-1695315600@centrepierrebaudis.toulousecongres.com
SUMMARY:Forum Cartoon 2023
DESCRIPTION:
URL:https://centrepierrebaudis.toulousecongres.com/evenement/forum-cartoon-2023/
LOCATION:Centre de Congrès Pierre Baudis\, 11 Esp. Compans Caffarelli\, TOULOUSE\, 31000\, France
CATEGORIES:Lancement de produit
END:VEVENT
END:VCALENDAR