BEGIN:VCALENDAR
VERSION:2.0
PRODID:-//Centre de Congrès Pierre Baudis - ECPv6.15.17//NONSGML v1.0//EN
CALSCALE:GREGORIAN
METHOD:PUBLISH
X-WR-CALNAME:Centre de Congrès Pierre Baudis
X-ORIGINAL-URL:https://centrepierrebaudis.toulousecongres.com
X-WR-CALDESC:Évènements pour Centre de Congrès Pierre Baudis
REFRESH-INTERVAL;VALUE=DURATION:PT1H
X-Robots-Tag:noindex
X-PUBLISHED-TTL:PT1H
BEGIN:VTIMEZONE
TZID:Europe/Paris
BEGIN:DAYLIGHT
TZOFFSETFROM:+0100
TZOFFSETTO:+0200
TZNAME:CEST
DTSTART:20230326T010000
END:DAYLIGHT
BEGIN:STANDARD
TZOFFSETFROM:+0200
TZOFFSETTO:+0100
TZNAME:CET
DTSTART:20231029T010000
END:STANDARD
BEGIN:DAYLIGHT
TZOFFSETFROM:+0100
TZOFFSETTO:+0200
TZNAME:CEST
DTSTART:20240331T010000
END:DAYLIGHT
BEGIN:STANDARD
TZOFFSETFROM:+0200
TZOFFSETTO:+0100
TZNAME:CET
DTSTART:20241027T010000
END:STANDARD
BEGIN:DAYLIGHT
TZOFFSETFROM:+0100
TZOFFSETTO:+0200
TZNAME:CEST
DTSTART:20250330T010000
END:DAYLIGHT
BEGIN:STANDARD
TZOFFSETFROM:+0200
TZOFFSETTO:+0100
TZNAME:CET
DTSTART:20251026T010000
END:STANDARD
END:VTIMEZONE
BEGIN:VEVENT
DTSTART;VALUE=DATE:20241128
DTEND;VALUE=DATE:20241129
DTSTAMP:20260426T010550
CREATED:20240304T143642Z
LAST-MODIFIED:20241128T142135Z
UID:955-1732752000-1732838399@centrepierrebaudis.toulousecongres.com
SUMMARY:Forum Echanges Urbains
DESCRIPTION:Cet événement biennal est une journée d’échanges et de partages d’expériences entre les acteurs de la ville contemporaine au cours de laquelle sont valorisés des projets d’aménagement et d’urbanisme à l’échelle de l’Occitanie\, de la Nouvelle Aquitaine et de l’Espagne. \nSon format est rythmé et convivial : 40 projets et 40 minutes\, présentés par un binôme maître d’œuvre – maître d’ouvrage. Les projets s’organisent autour de thématiques ciblées : Politiques de territoire\, Renouvellements urbains\, Nature et paysages\, Espaces publics\, Démarche de concertation et initiative citoyenne. \nPlus d’infos ici : Echanges Urbains | APUMP Occitanie
URL:https://centrepierrebaudis.toulousecongres.com/evenement/forum-echanges-urbains/
LOCATION:Centre de Congrès Pierre Baudis\, 11 Esp. Compans Caffarelli\, TOULOUSE\, 31000\, France
CATEGORIES:Salon - Exposition
END:VEVENT
END:VCALENDAR