BEGIN:VCALENDAR
VERSION:2.0
PRODID:-//Centre de Congrès Pierre Baudis - ECPv6.15.17//NONSGML v1.0//EN
CALSCALE:GREGORIAN
METHOD:PUBLISH
X-WR-CALNAME:Centre de Congrès Pierre Baudis
X-ORIGINAL-URL:https://centrepierrebaudis.toulousecongres.com
X-WR-CALDESC:Évènements pour Centre de Congrès Pierre Baudis
REFRESH-INTERVAL;VALUE=DURATION:PT1H
X-Robots-Tag:noindex
X-PUBLISHED-TTL:PT1H
BEGIN:VTIMEZONE
TZID:Europe/Paris
BEGIN:DAYLIGHT
TZOFFSETFROM:+0100
TZOFFSETTO:+0200
TZNAME:CEST
DTSTART:20240331T010000
END:DAYLIGHT
BEGIN:STANDARD
TZOFFSETFROM:+0200
TZOFFSETTO:+0100
TZNAME:CET
DTSTART:20241027T010000
END:STANDARD
BEGIN:DAYLIGHT
TZOFFSETFROM:+0100
TZOFFSETTO:+0200
TZNAME:CEST
DTSTART:20250330T010000
END:DAYLIGHT
BEGIN:STANDARD
TZOFFSETFROM:+0200
TZOFFSETTO:+0100
TZNAME:CET
DTSTART:20251026T010000
END:STANDARD
BEGIN:DAYLIGHT
TZOFFSETFROM:+0100
TZOFFSETTO:+0200
TZNAME:CEST
DTSTART:20260329T010000
END:DAYLIGHT
BEGIN:STANDARD
TZOFFSETFROM:+0200
TZOFFSETTO:+0100
TZNAME:CET
DTSTART:20261025T010000
END:STANDARD
END:VTIMEZONE
BEGIN:VEVENT
DTSTART;TZID=Europe/Paris:20251127T080000
DTEND;TZID=Europe/Paris:20251127T170000
DTSTAMP:20260422T000557
CREATED:20251104T131134Z
LAST-MODIFIED:20251104T131134Z
UID:1425-1764230400-1764262800@centrepierrebaudis.toulousecongres.com
SUMMARY:RDV Architecture 2025
DESCRIPTION:Les Rendez-vous de l’Architecture reviennent en 2025 pour une édition exceptionnelle placée sous le thème : « Architecture\, dessein de la mémoire » \n\n\n\n\n\n\n\n\n\nRVA d’HIVER 2025 \n\nCROA OCCITANIE\n\n\n\n\n\n\n\n\n« Architecture\, dessein de la mémoire »\nCette journée sera l’occasion d’explorer notre rapport au temps\, à la trace et à la création architecturale\, à travers une programmation inspirante mêlant conférences\, débats\, et démonstrations. \nNous aurons l’immense plaisir d’accueillir Rudy Ricciotti\, architecte majeur et figure incontournable de la scène contemporaine\, qui viendra partager sa vision et son expérience. \nEn partenariat avec les Compagnons du Tour de France et le FCBA\, cette édition s’annonce riche en rencontres\, échanges et inspirations. \nUne journée pour se retrouver\, débatte\, célébrer et transmettre autour de notre passion commune : l’architecture. \n\n\n\n\n\n\n\nPlus d’informations ici.
URL:https://centrepierrebaudis.toulousecongres.com/evenement/rdv-architecture-2025/
LOCATION:Centre de Congrès Pierre Baudis\, 11 Esp. Compans Caffarelli\, TOULOUSE\, 31000\, France
CATEGORIES:Congrès
END:VEVENT
END:VCALENDAR