BEGIN:VCALENDAR
VERSION:2.0
PRODID:-//Centre de Congrès Pierre Baudis - ECPv6.15.17//NONSGML v1.0//EN
CALSCALE:GREGORIAN
METHOD:PUBLISH
X-ORIGINAL-URL:https://centrepierrebaudis.toulousecongres.com
X-WR-CALDESC:Évènements pour Centre de Congrès Pierre Baudis
REFRESH-INTERVAL;VALUE=DURATION:PT1H
X-Robots-Tag:noindex
X-PUBLISHED-TTL:PT1H
BEGIN:VTIMEZONE
TZID:Europe/Paris
BEGIN:DAYLIGHT
TZOFFSETFROM:+0100
TZOFFSETTO:+0200
TZNAME:CEST
DTSTART:20240331T010000
END:DAYLIGHT
BEGIN:STANDARD
TZOFFSETFROM:+0200
TZOFFSETTO:+0100
TZNAME:CET
DTSTART:20241027T010000
END:STANDARD
BEGIN:DAYLIGHT
TZOFFSETFROM:+0100
TZOFFSETTO:+0200
TZNAME:CEST
DTSTART:20250330T010000
END:DAYLIGHT
BEGIN:STANDARD
TZOFFSETFROM:+0200
TZOFFSETTO:+0100
TZNAME:CET
DTSTART:20251026T010000
END:STANDARD
BEGIN:DAYLIGHT
TZOFFSETFROM:+0100
TZOFFSETTO:+0200
TZNAME:CEST
DTSTART:20260329T010000
END:DAYLIGHT
BEGIN:STANDARD
TZOFFSETFROM:+0200
TZOFFSETTO:+0100
TZNAME:CET
DTSTART:20261025T010000
END:STANDARD
END:VTIMEZONE
BEGIN:VEVENT
DTSTART;TZID=Europe/Paris:20251122T080000
DTEND;TZID=Europe/Paris:20251123T170000
DTSTAMP:20260422T000751
CREATED:20251106T151957Z
LAST-MODIFIED:20251106T151957Z
UID:1441-1763798400-1763917200@centrepierrebaudis.toulousecongres.com
SUMMARY:Le Salon des spiritueux 2025
DESCRIPTION:Le Salon des spiritueux 2025 \n \n\n\nLe Salon des spiritueux à Toulouserevient pour sa seconde édition les 22 et 23 novembre 2025 au Centre de Congrès Pierre Baudis \n\n\n\n\nUn lieu central\, facilement accessible en métro\, et équipé d’un parking souterrain. Depuis plus de dix ans\, nous évoluons dans l’univers des spiritueux avec passion et exigence. Aujourd’hui\, nous sommes fiers de proposer un salon à taille humaine\, riche en découvertes\, en échanges et en saveurs. \nÀ travers une quarantaine de stands\, des dégustations incluses dans le billet d’entrée\, des animations renouvelées chaque année\, et une boutique éphémère\, nous offrons un moment de convivialité unique aux amateurs comme aux professionnels.
URL:https://centrepierrebaudis.toulousecongres.com/evenement/le-salon-des-spiritueux-2025/
LOCATION:Centre de Congrès Pierre Baudis\, 11 Esp. Compans Caffarelli\, TOULOUSE\, 31000\, France
CATEGORIES:Salon - Exposition
END:VEVENT
END:VCALENDAR