BEGIN:VCALENDAR
VERSION:2.0
PRODID:-//Centre de Congrès Pierre Baudis - ECPv6.15.17//NONSGML v1.0//EN
CALSCALE:GREGORIAN
METHOD:PUBLISH
X-WR-CALNAME:Centre de Congrès Pierre Baudis
X-ORIGINAL-URL:https://centrepierrebaudis.toulousecongres.com
X-WR-CALDESC:Évènements pour Centre de Congrès Pierre Baudis
REFRESH-INTERVAL;VALUE=DURATION:PT1H
X-Robots-Tag:noindex
X-PUBLISHED-TTL:PT1H
BEGIN:VTIMEZONE
TZID:Europe/Paris
BEGIN:DAYLIGHT
TZOFFSETFROM:+0100
TZOFFSETTO:+0200
TZNAME:CEST
DTSTART:20240331T010000
END:DAYLIGHT
BEGIN:STANDARD
TZOFFSETFROM:+0200
TZOFFSETTO:+0100
TZNAME:CET
DTSTART:20241027T010000
END:STANDARD
BEGIN:DAYLIGHT
TZOFFSETFROM:+0100
TZOFFSETTO:+0200
TZNAME:CEST
DTSTART:20250330T010000
END:DAYLIGHT
BEGIN:STANDARD
TZOFFSETFROM:+0200
TZOFFSETTO:+0100
TZNAME:CET
DTSTART:20251026T010000
END:STANDARD
BEGIN:DAYLIGHT
TZOFFSETFROM:+0100
TZOFFSETTO:+0200
TZNAME:CEST
DTSTART:20260329T010000
END:DAYLIGHT
BEGIN:STANDARD
TZOFFSETFROM:+0200
TZOFFSETTO:+0100
TZNAME:CET
DTSTART:20261025T010000
END:STANDARD
END:VTIMEZONE
BEGIN:VEVENT
DTSTART;TZID=Europe/Paris:20251008T080000
DTEND;TZID=Europe/Paris:20251010T170000
DTSTAMP:20260422T000515
CREATED:20250903T084600Z
LAST-MODIFIED:20250903T084600Z
UID:1356-1759910400-1760115600@centrepierrebaudis.toulousecongres.com
SUMMARY:9èmes Journées du LYSA Lymphoma Study Association
DESCRIPTION:Le LYSA\, The Lymphoma Study Association\, est un réseau indépendant de recherche clinique sur le lymphome menant des études cliniques de la première administration de nouveaux traitements à l’Homme jusqu’à l’établissement de stratégies thérapeutiques de référence. \nSite internet du LYSA : ici
URL:https://centrepierrebaudis.toulousecongres.com/evenement/9emes-journees-du-lysa-lymphoma-study-association/
LOCATION:Centre de Congrès Pierre Baudis\, 11 Esp. Compans Caffarelli\, TOULOUSE\, 31000\, France
CATEGORIES:Congrès
END:VEVENT
BEGIN:VEVENT
DTSTART;TZID=Europe/Paris:20251009T080000
DTEND;TZID=Europe/Paris:20251010T170000
DTSTAMP:20260422T000515
CREATED:20250903T085254Z
LAST-MODIFIED:20250903T085254Z
UID:1358-1759996800-1760115600@centrepierrebaudis.toulousecongres.com
SUMMARY:ONCO FOCUS 25
DESCRIPTION:FOCUS\, l’évènement de l’onco-urologie française et internationale\n\n\n\nFort de la réussite de ses précédentes éditions\, le congrès FOCUS est devenu un événement pérenne et incontournable du paysage de l’onco-urologie française et internationale.\nFOCUS se démarque en pariant sur l’innovation et l’optimisation thérapeutique\, avec un panel international d’experts renouvelé chaque année et des échanges facilités de haute valeur ajoutée avec ces leaders mondiaux en tumeurs uro-génitales.\nL’optimisation de nos stratégies en onco-urologie (radiothérapie\, oncologie\, médecine nucléaire\, urologie) est nécessaire en raison de la vitesse d’évolution des options thérapeutiques ces dernières années. Pour cela\, FOCUS invite chaque année des experts internationaux de renoms pour aborder de manière pluri-disciplinaire des sujets complexes de notre spécialité. \nPlus d’informations : ici
URL:https://centrepierrebaudis.toulousecongres.com/evenement/onco-focus-25/
LOCATION:Centre de Congrès Pierre Baudis\, 11 Esp. Compans Caffarelli\, TOULOUSE\, 31000\, France
CATEGORIES:Congrès
END:VEVENT
END:VCALENDAR