BEGIN:VCALENDAR
VERSION:2.0
PRODID:-//Centre de Congrès Pierre Baudis - ECPv6.15.17//NONSGML v1.0//EN
CALSCALE:GREGORIAN
METHOD:PUBLISH
X-ORIGINAL-URL:https://centrepierrebaudis.toulousecongres.com
X-WR-CALDESC:Évènements pour Centre de Congrès Pierre Baudis
REFRESH-INTERVAL;VALUE=DURATION:PT1H
X-Robots-Tag:noindex
X-PUBLISHED-TTL:PT1H
BEGIN:VTIMEZONE
TZID:Europe/Paris
BEGIN:DAYLIGHT
TZOFFSETFROM:+0100
TZOFFSETTO:+0200
TZNAME:CEST
DTSTART:20240331T010000
END:DAYLIGHT
BEGIN:STANDARD
TZOFFSETFROM:+0200
TZOFFSETTO:+0100
TZNAME:CET
DTSTART:20241027T010000
END:STANDARD
BEGIN:DAYLIGHT
TZOFFSETFROM:+0100
TZOFFSETTO:+0200
TZNAME:CEST
DTSTART:20250330T010000
END:DAYLIGHT
BEGIN:STANDARD
TZOFFSETFROM:+0200
TZOFFSETTO:+0100
TZNAME:CET
DTSTART:20251026T010000
END:STANDARD
BEGIN:DAYLIGHT
TZOFFSETFROM:+0100
TZOFFSETTO:+0200
TZNAME:CEST
DTSTART:20260329T010000
END:DAYLIGHT
BEGIN:STANDARD
TZOFFSETFROM:+0200
TZOFFSETTO:+0100
TZNAME:CET
DTSTART:20261025T010000
END:STANDARD
END:VTIMEZONE
BEGIN:VEVENT
DTSTART;TZID=Europe/Paris:20250927T080000
DTEND;TZID=Europe/Paris:20250928T170000
DTSTAMP:20260421T205550
CREATED:20250526T092842Z
LAST-MODIFIED:20250526T092842Z
UID:1248-1758960000-1759078800@centrepierrebaudis.toulousecongres.com
SUMMARY:Salon des Futurs Mariés 2025
DESCRIPTION:Le Salon des Futurs Mariés de Toulouse vous accueille pour rencontrer + de 90 exposants\, des professionnels du mariage sélectionnés les experts de la Maison du Mariage.\nPour faire le plein d’idées et de bonnes adresses dès la rentrée.\nPour découvrir en avant-première les tendances 2025.\nPour vous aider à préparer ce jour si important dans votre vie.\nPour profiter de conseils personnalisés et de bons plans exclusifs sur les robes\, alliances\, dragées\, vins et champagnes… et bien + encore.\n\n DÉFILES – Vivez de véritables moments « Mode » lors des défilés des nouvelles collections de robes de créateurs et de fabricants. 3 défilés par jour\, à 11h00\, 15h00 et 17h30.\n GUIDES & MAGAZINES – Bénéficiez des + de la Maison du Mariage : « Le Guide des Salles & de la Réception » et le « Magazine Mariage Occitanie éd. 2025 » vous seront offerts à l’entrée du salon !\n ESPACES GRATUITS – Participez à des animations en tout genre : show culinaires\, ateliers beauté\, conférences…\n\nPlus d’informations ici 
URL:https://centrepierrebaudis.toulousecongres.com/evenement/salon-des-futurs-maries-2025/
LOCATION:Centre de Congrès Pierre Baudis\, 11 Esp. Compans Caffarelli\, TOULOUSE\, 31000\, France
CATEGORIES:Salon - Exposition
END:VEVENT
END:VCALENDAR