BEGIN:VCALENDAR
VERSION:2.0
PRODID:-//Centre de Congrès Pierre Baudis - ECPv6.15.17//NONSGML v1.0//EN
CALSCALE:GREGORIAN
METHOD:PUBLISH
X-WR-CALNAME:Centre de Congrès Pierre Baudis
X-ORIGINAL-URL:https://centrepierrebaudis.toulousecongres.com
X-WR-CALDESC:Évènements pour Centre de Congrès Pierre Baudis
REFRESH-INTERVAL;VALUE=DURATION:PT1H
X-Robots-Tag:noindex
X-PUBLISHED-TTL:PT1H
BEGIN:VTIMEZONE
TZID:Europe/Paris
BEGIN:DAYLIGHT
TZOFFSETFROM:+0100
TZOFFSETTO:+0200
TZNAME:CEST
DTSTART:20240331T010000
END:DAYLIGHT
BEGIN:STANDARD
TZOFFSETFROM:+0200
TZOFFSETTO:+0100
TZNAME:CET
DTSTART:20241027T010000
END:STANDARD
BEGIN:DAYLIGHT
TZOFFSETFROM:+0100
TZOFFSETTO:+0200
TZNAME:CEST
DTSTART:20250330T010000
END:DAYLIGHT
BEGIN:STANDARD
TZOFFSETFROM:+0200
TZOFFSETTO:+0100
TZNAME:CET
DTSTART:20251026T010000
END:STANDARD
BEGIN:DAYLIGHT
TZOFFSETFROM:+0100
TZOFFSETTO:+0200
TZNAME:CEST
DTSTART:20260329T010000
END:DAYLIGHT
BEGIN:STANDARD
TZOFFSETFROM:+0200
TZOFFSETTO:+0100
TZNAME:CET
DTSTART:20261025T010000
END:STANDARD
END:VTIMEZONE
BEGIN:VEVENT
DTSTART;TZID=Europe/Paris:20250910T080000
DTEND;TZID=Europe/Paris:20250912T170000
DTSTAMP:20260421T205214
CREATED:20250521T084710Z
LAST-MODIFIED:20250521T084721Z
UID:1237-1757491200-1757696400@centrepierrebaudis.toulousecongres.com
SUMMARY:Congrès CNGTC 2025 – Conseil National des Greffiers des Tribunaux de Commerce
DESCRIPTION:Voir le site du Conseil National des Greffiers des Tribunaux de Commerce : ici
URL:https://centrepierrebaudis.toulousecongres.com/evenement/congres-cngtc-2025-conseil-national-des-greffiers-des-tribunaux-de-commerce/
LOCATION:Centre de Congrès Pierre Baudis\, 11 Esp. Compans Caffarelli\, TOULOUSE\, 31000\, France
END:VEVENT
END:VCALENDAR