BEGIN:VCALENDAR
VERSION:2.0
PRODID:-//Centre de Congrès Pierre Baudis - ECPv6.15.17//NONSGML v1.0//EN
CALSCALE:GREGORIAN
METHOD:PUBLISH
X-ORIGINAL-URL:https://centrepierrebaudis.toulousecongres.com
X-WR-CALDESC:Évènements pour Centre de Congrès Pierre Baudis
REFRESH-INTERVAL;VALUE=DURATION:PT1H
X-Robots-Tag:noindex
X-PUBLISHED-TTL:PT1H
BEGIN:VTIMEZONE
TZID:Europe/Paris
BEGIN:DAYLIGHT
TZOFFSETFROM:+0100
TZOFFSETTO:+0200
TZNAME:CEST
DTSTART:20240331T010000
END:DAYLIGHT
BEGIN:STANDARD
TZOFFSETFROM:+0200
TZOFFSETTO:+0100
TZNAME:CET
DTSTART:20241027T010000
END:STANDARD
BEGIN:DAYLIGHT
TZOFFSETFROM:+0100
TZOFFSETTO:+0200
TZNAME:CEST
DTSTART:20250330T010000
END:DAYLIGHT
BEGIN:STANDARD
TZOFFSETFROM:+0200
TZOFFSETTO:+0100
TZNAME:CET
DTSTART:20251026T010000
END:STANDARD
BEGIN:DAYLIGHT
TZOFFSETFROM:+0100
TZOFFSETTO:+0200
TZNAME:CEST
DTSTART:20260329T010000
END:DAYLIGHT
BEGIN:STANDARD
TZOFFSETFROM:+0200
TZOFFSETTO:+0100
TZNAME:CET
DTSTART:20261025T010000
END:STANDARD
END:VTIMEZONE
BEGIN:VEVENT
DTSTART;VALUE=DATE:20250905
DTEND;VALUE=DATE:20250909
DTSTAMP:20260421T205458
CREATED:20241125T103059Z
LAST-MODIFIED:20241128T143150Z
UID:1112-1757030400-1757375999@centrepierrebaudis.toulousecongres.com
SUMMARY:Hydrocephalus Annual Meeting
DESCRIPTION:Hydrocéphalie 2025 s’agit de l’un des congrès les plus importants consacrés à l’hydrocéphalie et constitue une occasion vitale pour les cliniciens et les scientifiques de se tenir au courant des développements dans l’évaluation\, le diagnostic et le traitement de l’hydrocéphalie. \nLe congrès couvrira un spectre complet de troubles de l’hydrocéphalie et du LCR affectant les enfants et les adultes\, ils préparent un programme passionnant avec des sujets intéressants et controversés. \nPlus d’informations ici.
URL:https://centrepierrebaudis.toulousecongres.com/evenement/hydrocephalus-annual-meeting/
LOCATION:Centre de Congrès Pierre Baudis\, 11 Esp. Compans Caffarelli\, TOULOUSE\, 31000\, France
CATEGORIES:Congrès
END:VEVENT
END:VCALENDAR