BEGIN:VCALENDAR
VERSION:2.0
PRODID:-//Centre de Congrès Pierre Baudis - ECPv6.15.17//NONSGML v1.0//EN
CALSCALE:GREGORIAN
METHOD:PUBLISH
X-ORIGINAL-URL:https://centrepierrebaudis.toulousecongres.com
X-WR-CALDESC:Évènements pour Centre de Congrès Pierre Baudis
REFRESH-INTERVAL;VALUE=DURATION:PT1H
X-Robots-Tag:noindex
X-PUBLISHED-TTL:PT1H
BEGIN:VTIMEZONE
TZID:Europe/Paris
BEGIN:DAYLIGHT
TZOFFSETFROM:+0100
TZOFFSETTO:+0200
TZNAME:CEST
DTSTART:20240331T010000
END:DAYLIGHT
BEGIN:STANDARD
TZOFFSETFROM:+0200
TZOFFSETTO:+0100
TZNAME:CET
DTSTART:20241027T010000
END:STANDARD
BEGIN:DAYLIGHT
TZOFFSETFROM:+0100
TZOFFSETTO:+0200
TZNAME:CEST
DTSTART:20250330T010000
END:DAYLIGHT
BEGIN:STANDARD
TZOFFSETFROM:+0200
TZOFFSETTO:+0100
TZNAME:CET
DTSTART:20251026T010000
END:STANDARD
BEGIN:DAYLIGHT
TZOFFSETFROM:+0100
TZOFFSETTO:+0200
TZNAME:CEST
DTSTART:20260329T010000
END:DAYLIGHT
BEGIN:STANDARD
TZOFFSETFROM:+0200
TZOFFSETTO:+0100
TZNAME:CET
DTSTART:20261025T010000
END:STANDARD
END:VTIMEZONE
BEGIN:VEVENT
DTSTART;TZID=Europe/Paris:20250529T080000
DTEND;TZID=Europe/Paris:20250601T180000
DTSTAMP:20260421T135249
CREATED:20250521T082709Z
LAST-MODIFIED:20250521T082709Z
UID:1225-1748505600-1748800800@centrepierrebaudis.toulousecongres.com
SUMMARY:SPARTACUS – Michel Destruel
DESCRIPTION:Pourquoi SPARTACUS ?\n\n« Tant que tu n’abandonnes pas\, tu peux toujours réussir ! » Abondamment répétée dans l’industrie du Marketing de réseau\, cette phrase est pourtant l’une des plus grosses bêtises que l’on puisse entendre. Accepter cette croyance est une très grosse erreur car si vous faîtes les choses de la mauvaise manière\, vous pouvez continuer à les faire encore et encore pendant des années : vous n’obtiendrez pas de résultats ! La réalité c’est que\, même si dans ce métier la détermination est essentielle\, il est indispensable de l’associer à une méthodologie qui fonctionne. \n\n\n\nLe séminaire « Spartacus »\n\nPendant plusieurs années\, Michel Destruel a su développer et tenir une très belle position dans l’une des plus grosses sociétés de cette industrie. Aujourd’hui considéré par ses pairs comme l’un des networkers les plus brillants de sa génération\, il a décidé de partager avec vous son savoir faire et a conceptualisé « Spartacus ».\nLors de ce séminaire unique au monde\, Michel Destruel va vous enseigner sa méthodologie et vous donner toutes les clefs et les stratégies pour exceller dans l’industrie du Marketing de Réseau.\nUne immersion totale de 4 jours\, durant lesquelles vous apprendrez et développerez les talents indispensables qui feront de vous l’un des plus grands leaders de cette industrie. \nPlus d’informations : ici
URL:https://centrepierrebaudis.toulousecongres.com/evenement/spartacus-michel-destruel/
LOCATION:Centre de Congrès Pierre Baudis\, 11 Esp. Compans Caffarelli\, TOULOUSE\, 31000\, France
CATEGORIES:Congrès
END:VEVENT
END:VCALENDAR