BEGIN:VCALENDAR
VERSION:2.0
PRODID:-//Centre de Congrès Pierre Baudis - ECPv6.15.17//NONSGML v1.0//EN
CALSCALE:GREGORIAN
METHOD:PUBLISH
X-WR-CALNAME:Centre de Congrès Pierre Baudis
X-ORIGINAL-URL:https://centrepierrebaudis.toulousecongres.com
X-WR-CALDESC:Évènements pour Centre de Congrès Pierre Baudis
REFRESH-INTERVAL;VALUE=DURATION:PT1H
X-Robots-Tag:noindex
X-PUBLISHED-TTL:PT1H
BEGIN:VTIMEZONE
TZID:Europe/Paris
BEGIN:DAYLIGHT
TZOFFSETFROM:+0100
TZOFFSETTO:+0200
TZNAME:CEST
DTSTART:20240331T010000
END:DAYLIGHT
BEGIN:STANDARD
TZOFFSETFROM:+0200
TZOFFSETTO:+0100
TZNAME:CET
DTSTART:20241027T010000
END:STANDARD
BEGIN:DAYLIGHT
TZOFFSETFROM:+0100
TZOFFSETTO:+0200
TZNAME:CEST
DTSTART:20250330T010000
END:DAYLIGHT
BEGIN:STANDARD
TZOFFSETFROM:+0200
TZOFFSETTO:+0100
TZNAME:CET
DTSTART:20251026T010000
END:STANDARD
BEGIN:DAYLIGHT
TZOFFSETFROM:+0100
TZOFFSETTO:+0200
TZNAME:CEST
DTSTART:20260329T010000
END:DAYLIGHT
BEGIN:STANDARD
TZOFFSETFROM:+0200
TZOFFSETTO:+0100
TZNAME:CET
DTSTART:20261025T010000
END:STANDARD
END:VTIMEZONE
BEGIN:VEVENT
DTSTART;VALUE=DATE:20250402
DTEND;VALUE=DATE:20250405
DTSTAMP:20260421T105617
CREATED:20250127T094815Z
LAST-MODIFIED:20250127T094815Z
UID:1166-1743552000-1743811199@centrepierrebaudis.toulousecongres.com
SUMMARY:EPOS Congress European Paediatric Orthopaedic Society
DESCRIPTION:EPOS 2025 comprendra des conférences invitées\, des sessions de groupe d’étude\, des sessions de communications gratuites et des symposiums sectoriels. \nLes thématiques abordées couvriront un large éventail de sujets essentiels en orthopédie pédiatrique\, notamment les sciences fondamentales\, les traumatismes\, la colonne vertébrale\, la hanche\, les déformations des membres inférieurs\, le pied et la cheville\, les problématiques liées au sportif\, le membre supérieur et la main\, les troubles neuromusculaires\, les tumeurs et infections\, ainsi que les dysplasies congénitales et syndromiques. \nPlus d’informations ici.
URL:https://centrepierrebaudis.toulousecongres.com/evenement/epos-congress-european-paediatric-orthopaedic-society/
LOCATION:Centre de Congrès Pierre Baudis\, 11 Esp. Compans Caffarelli\, TOULOUSE\, 31000\, France
CATEGORIES:Congrès
END:VEVENT
END:VCALENDAR