BEGIN:VCALENDAR
VERSION:2.0
PRODID:-//Centre de Congrès Pierre Baudis - ECPv6.15.17//NONSGML v1.0//EN
CALSCALE:GREGORIAN
METHOD:PUBLISH
X-WR-CALNAME:Centre de Congrès Pierre Baudis
X-ORIGINAL-URL:https://centrepierrebaudis.toulousecongres.com
X-WR-CALDESC:Évènements pour Centre de Congrès Pierre Baudis
REFRESH-INTERVAL;VALUE=DURATION:PT1H
X-Robots-Tag:noindex
X-PUBLISHED-TTL:PT1H
BEGIN:VTIMEZONE
TZID:Europe/Paris
BEGIN:DAYLIGHT
TZOFFSETFROM:+0100
TZOFFSETTO:+0200
TZNAME:CEST
DTSTART:20240331T010000
END:DAYLIGHT
BEGIN:STANDARD
TZOFFSETFROM:+0200
TZOFFSETTO:+0100
TZNAME:CET
DTSTART:20241027T010000
END:STANDARD
BEGIN:DAYLIGHT
TZOFFSETFROM:+0100
TZOFFSETTO:+0200
TZNAME:CEST
DTSTART:20250330T010000
END:DAYLIGHT
BEGIN:STANDARD
TZOFFSETFROM:+0200
TZOFFSETTO:+0100
TZNAME:CET
DTSTART:20251026T010000
END:STANDARD
BEGIN:DAYLIGHT
TZOFFSETFROM:+0100
TZOFFSETTO:+0200
TZNAME:CEST
DTSTART:20260329T010000
END:DAYLIGHT
BEGIN:STANDARD
TZOFFSETFROM:+0200
TZOFFSETTO:+0100
TZNAME:CET
DTSTART:20261025T010000
END:STANDARD
END:VTIMEZONE
BEGIN:VEVENT
DTSTART;TZID=Europe/Paris:20250324T104500
DTEND;TZID=Europe/Paris:20250324T173000
DTSTAMP:20260421T105705
CREATED:20250317T113328Z
LAST-MODIFIED:20250317T113328Z
UID:1190-1742813100-1742837400@centrepierrebaudis.toulousecongres.com
SUMMARY:Workshop "Occitanie Destination Groupe" 2025
DESCRIPTION:Le Comité Régional du Tourisme et des Loisirs d’Occitanie (CRTL) organise une nouvelle édition de « Occitanie Destination Groupes »\, un événement de référence pour les professionnels du voyage de groupes. Cette opération de promotion\, à laquelle 120 prescripteurs sont attendus[1]\, vise les voyagistes français et francophones\, les principaux comités d’entreprises de proximité ainsi que les associations de nouveaux arrivants. Ce rendez-vous biennal a pour objectif de favoriser la commercialisation des produits « Groupes » proposés par les prestataires touristiques régionaux.
URL:https://centrepierrebaudis.toulousecongres.com/evenement/workshop-occitanie-destination-groupe-2025/
LOCATION:Centre de Congrès Pierre Baudis\, 11 Esp. Compans Caffarelli\, TOULOUSE\, 31000\, France
CATEGORIES:Salon - Exposition
END:VEVENT
END:VCALENDAR