BEGIN:VCALENDAR
VERSION:2.0
PRODID:-//Centre de Congrès Pierre Baudis - ECPv6.15.17//NONSGML v1.0//EN
CALSCALE:GREGORIAN
METHOD:PUBLISH
X-ORIGINAL-URL:https://centrepierrebaudis.toulousecongres.com
X-WR-CALDESC:Évènements pour Centre de Congrès Pierre Baudis
REFRESH-INTERVAL;VALUE=DURATION:PT1H
X-Robots-Tag:noindex
X-PUBLISHED-TTL:PT1H
BEGIN:VTIMEZONE
TZID:Europe/Paris
BEGIN:DAYLIGHT
TZOFFSETFROM:+0100
TZOFFSETTO:+0200
TZNAME:CEST
DTSTART:20240331T010000
END:DAYLIGHT
BEGIN:STANDARD
TZOFFSETFROM:+0200
TZOFFSETTO:+0100
TZNAME:CET
DTSTART:20241027T010000
END:STANDARD
BEGIN:DAYLIGHT
TZOFFSETFROM:+0100
TZOFFSETTO:+0200
TZNAME:CEST
DTSTART:20250330T010000
END:DAYLIGHT
BEGIN:STANDARD
TZOFFSETFROM:+0200
TZOFFSETTO:+0100
TZNAME:CET
DTSTART:20251026T010000
END:STANDARD
BEGIN:DAYLIGHT
TZOFFSETFROM:+0100
TZOFFSETTO:+0200
TZNAME:CEST
DTSTART:20260329T010000
END:DAYLIGHT
BEGIN:STANDARD
TZOFFSETFROM:+0200
TZOFFSETTO:+0100
TZNAME:CET
DTSTART:20261025T010000
END:STANDARD
END:VTIMEZONE
BEGIN:VEVENT
DTSTART;VALUE=DATE:20250128
DTEND;VALUE=DATE:20250131
DTSTAMP:20260419T220956
CREATED:20240910T101036Z
LAST-MODIFIED:20241128T142428Z
UID:1060-1738022400-1738281599@centrepierrebaudis.toulousecongres.com
SUMMARY:Conférence TSAS
DESCRIPTION:3AF\, la Société Française d’Aéronautique et d’Espace\, présente Towards Sustainable Aviation\, un sommet international qui se tiendra du 28 au 30 janvier 2025\, à Toulouse – France.\nEn 2022\, la première édition de TSAS a rassemblé 200 experts venus de 16 pays pour 95 présentations réparties en 27 sessions techniques\, 8 tables rondes et/ou Keynotes.\nPour rappel\, TSAS regroupe les anciennes conférences AEGATS et Greener Aviation tenues en 2016\, 2018 et 2020 et organisées par 3AF avec le soutien de Cleansky\, Sesar\, AIAA et CEAS. \nCette conférence abordera à la fois la conception des aéronefs et les perspectives d’exploitation afin de préparer et de façonner un système de transport aérien mondial plus efficace.\nCette conférence abordera à la fois la conception des avions et les perspectives d’exploitation pour préparer et façonner un système de transport aérien mondial plus efficace\, dans le but d’atteindre la neutralité carbone d’ici 2050 pour l’écosystème de l’aviation. \nPlus d’informations ici. \n\n  \n3AF\, the French Aerospace Society\, presents Towards Sustainable Aviation\, an International Summit\, held on 28 to 30 January 2025\, in Toulouse – France.\nIn 2022\, TSAS first edition gathered 200 experts issued from 16 countries for 95 presentations reviewed in 27 technical sessions\, 8 round tables and/or Keynotes.\nAs a reminder TSAS is regrouping former AEGATS and Greener Aviation conferences held in 2016\, 2018 and 2020 and organised by 3AF with the support of Cleansky\, Sesar\, AIAA and CEAS. \nThis conference will address both aircraft design and operations perspectives to prepare and shape a more efficient Global\nAir Transport System with the aim to reach carbon neutrality by 2050 for the aviation ecosystem. \nMore information here.
URL:https://centrepierrebaudis.toulousecongres.com/evenement/conference-tsas/
LOCATION:Centre de Congrès Pierre Baudis\, 11 Esp. Compans Caffarelli\, TOULOUSE\, 31000\, France
CATEGORIES:Congrès
END:VEVENT
END:VCALENDAR