BEGIN:VCALENDAR
VERSION:2.0
PRODID:-//Centre de Congrès Pierre Baudis - ECPv6.15.17//NONSGML v1.0//EN
CALSCALE:GREGORIAN
METHOD:PUBLISH
X-ORIGINAL-URL:https://centrepierrebaudis.toulousecongres.com
X-WR-CALDESC:Évènements pour Centre de Congrès Pierre Baudis
REFRESH-INTERVAL;VALUE=DURATION:PT1H
X-Robots-Tag:noindex
X-PUBLISHED-TTL:PT1H
BEGIN:VTIMEZONE
TZID:Europe/Paris
BEGIN:DAYLIGHT
TZOFFSETFROM:+0100
TZOFFSETTO:+0200
TZNAME:CEST
DTSTART:20220327T010000
END:DAYLIGHT
BEGIN:STANDARD
TZOFFSETFROM:+0200
TZOFFSETTO:+0100
TZNAME:CET
DTSTART:20221030T010000
END:STANDARD
BEGIN:DAYLIGHT
TZOFFSETFROM:+0100
TZOFFSETTO:+0200
TZNAME:CEST
DTSTART:20230326T010000
END:DAYLIGHT
BEGIN:STANDARD
TZOFFSETFROM:+0200
TZOFFSETTO:+0100
TZNAME:CET
DTSTART:20231029T010000
END:STANDARD
BEGIN:DAYLIGHT
TZOFFSETFROM:+0100
TZOFFSETTO:+0200
TZNAME:CEST
DTSTART:20240331T010000
END:DAYLIGHT
BEGIN:STANDARD
TZOFFSETFROM:+0200
TZOFFSETTO:+0100
TZNAME:CET
DTSTART:20241027T010000
END:STANDARD
END:VTIMEZONE
BEGIN:VEVENT
DTSTART;TZID=Europe/Paris:20231206T080000
DTEND;TZID=Europe/Paris:20231207T170000
DTSTAMP:20260419T184039
CREATED:20230629T154930Z
LAST-MODIFIED:20231204T142643Z
UID:490-1701849600-1701968400@centrepierrebaudis.toulousecongres.com
SUMMARY:35e Forum Cap'Com
DESCRIPTION:Le 35e Forum Cap’Com se tient au centre Pierre Baudis de Toulouse du 5 au 7 décembre 2023. 3 jours\, 1000 communicants\, 150 intervenants pour échanger sur les pratiques du métier de la communication publique\, les confronter aux analyses d’experts et d’universitaires et découvrir un territoire de communication : Toulouse\, la Haute-Garonne et l’Occitanie. \nPlus d’infos : https://www.cap-com.org/evenement/le-35e-forum-de-la-communication-publique-et-territoriale-0
URL:https://centrepierrebaudis.toulousecongres.com/evenement/c19r-forum-cap-com-2023/
LOCATION:Centre de Congrès Pierre Baudis\, 11 Esp. Compans Caffarelli\, TOULOUSE\, 31000\, France
CATEGORIES:Congrès
END:VEVENT
END:VCALENDAR